BEGIN:VCALENDAR
VERSION:2.0
PRODID:-//hacksw/handcal//NONSGML v1.0//EN
BEGIN:VEVENT
DTSTART:20140130T170000
DTEND:20140130T183000
LOCATION:MBII \nManufacture des Tabacs \n31000 Toulouse
ORGANIZER;CN=Elsa ARIAS:MAILTO:
SUMMARY:Business Talk 30/01/14 - Andreas Ehrenmann
DESCRIPTION:\n"Capacity expansion in a risky environment"\n \nHistorically generation expansion planning models for electricity markets were formulated as optimization problems.\nThe situation is different in...
URL:https://alumni.tse-fr.eu/fr/event/business-talk-30-01-14-andreas-ehrenmann/2014/01/30/83
BEGIN:VALARM
TRIGGER:-P0DT1H0M0S
ACTION:DISPLAY
END:VALARM
END:VEVENT
END:VCALENDAR