BEGIN:VCALENDAR
VERSION:2.0
PRODID:-//hacksw/handcal//NONSGML v1.0//EN
BEGIN:VEVENT
DTSTART:20160112T200000
DTEND:20160112T235500
LOCATION:Earth'K  \n5, Rue Daunou \n75002 PARIS
ORGANIZER;CN=Tiphaine TEXIER:MAILTO:
SUMMARY:Alumni Afterwork: first event of 2016 in Paris!
DESCRIPTION:Dear alumni in Paris,\nThe 2 new TSE Alumni ambassadors in Paris are inviting you for a friendly drink next week at the Earth'K bar. There will be drinks and tapas (remember Toulouse ;)) \n \nHappy...
URL:https://alumni.tse-fr.eu/fr/event/alumni-afterwork-first-event-of-2016-in-paris/2016/01/12/225
BEGIN:VALARM
TRIGGER:-P0DT1H0M0S
ACTION:DISPLAY
END:VALARM
END:VEVENT
END:VCALENDAR