BEGIN:VCALENDAR
VERSION:2.0
PRODID:-//hacksw/handcal//NONSGML v1.0//EN
BEGIN:VEVENT
DTSTART:20150115T170000
DTEND:20150115T183000
LOCATION:amphi MB 2 \n21, Allée de Brienne \n31000 TOULOUSE
ORGANIZER;CN=Hélène BILLY:MAILTO:
SUMMARY:Business Talk in partnership with Airbus : "Stereotypes : Women /Men : everyone is guilty, everyone is a victim
DESCRIPTION:\nIn partnership with Airbus and to complete the exhibition on the work of Airbus Women. from 12 to 23 January, Pete Stone expert diversity and intercultural will present a talk on Thursday 15 January...
URL:https://alumni.tse-fr.eu/fr/event/business-talk-in-partnership-with-airbus-stereotypes-women-men-everyone-is-guilty-everyone-is-a-victim/2015/01/15/153
BEGIN:VALARM
TRIGGER:-P0DT1H0M0S
ACTION:DISPLAY
END:VALARM
END:VEVENT
END:VCALENDAR