BEGIN:VCALENDAR
VERSION:2.0
PRODID:-//hacksw/handcal//NONSGML v1.0//EN
BEGIN:VEVENT
DTSTART:20201113T173000
DTEND:20201113T183000
LOCATION:https://zoom.us/j/91884842917?pwd=UDR4OXNyMHFsNFNFdzhLaEI3aUR6Zz09
ORGANIZER;CN=Nina Balussou-Vergé:MAILTO:nina.balussou-verge@ut-capitole.fr
SUMMARY:Women in European Economics with Emmanuelle Auriol
DESCRIPTION:Webinar access code 123456...
URL:https://alumni.tse-fr.eu/en/event/women-in-european-economics-with-emmanuelle-auriol/2020/11/13/388
BEGIN:VALARM
TRIGGER:-P0DT1H0M0S
ACTION:DISPLAY
END:VALARM
END:VEVENT
END:VCALENDAR