BEGIN:VCALENDAR
VERSION:2.0
PRODID:-//hacksw/handcal//NONSGML v1.0//EN
BEGIN:VEVENT
DTSTART:20130605T000000
DTEND:20130607T000000
LOCATION:TSE \n21, Allée de Brienne \n31000 TOULOUSE
ORGANIZER;CN=sylvie dupuis:MAILTO:
SUMMARY:TSE's TIGER Forum 2013: reduced fees for TSE alumni
DESCRIPTION:Dear TSE alumni,\nRegistrations are now open for the TIGER Forum 2013 on 5-8 June, 2013.\nFor members of the TSE Alumni association, we are pleased to inform you that a special reduced rate of -20% is...
URL:https://alumni.tse-fr.eu/en/event/tse-s-tiger-forum-2013-reduced-fees-for-tse-alumni/2013/06/05/35
BEGIN:VALARM
TRIGGER:-P0DT1H0M0S
ACTION:DISPLAY
END:VALARM
END:VEVENT
END:VCALENDAR